Workbook

Sheet Data
C1: Column name | D1: Column value size
C2: [SUM UP only column name lengths] | D2: [SUM UP Key + Column value sizes]
A3: Person | G3: ColumnOverhead | H3: 15
B4: confPerson | G4: Row Overhead | H4: 23
B5: DBID@GUID (8+1+16 = 25) | C5: key | D5: 25
C6: Data | D6: 150
B7: =PRODUCT(H3,COUNT(D6)) -> 15 | C7: 4 | D7: =SUM(D5:D6) -> 175 | E7: =SUM(C7:D7) -> 179 | F7: =SUM(B7:D7) -> 194
B8: user
B9: DBID@GUID (8+1+16 = 25) | C9: key | D9: 25
C10: DB_VERSION | D10: 2
C11: DND_STATE | D11: 5
C12: EMPLOYEE_ID | D12: 20
C13: ENTITY_STATE | D13: 7
C14: NO_ANSWER_TIMEOUT | D14: 3
C15: REJECT_CALL_IN_CALL | D15: 5
C16: REJECT_CALL_NOT_READY | D16: 5
C17: ROLES | D17: 20
C18: TIMEZONE | D18: 30
C19: mailbox_id | D19: 8
C20: CALLING_PROFILE | D20: 40
C21: FORWARD_ON_BUSY | D21: 40
... C27: USER_NAME | D27: 20
B28: =PRODUCT(H3,COUNT(D10:D27)) -> 270 | C28: {=SUM(LEN(C9:C27))} -> 235 | D28: =SUM(D9:D27) -> 335 | E28: =SUM(C28:D28) -> 570 | F28: =SUM(B28:D28) -> 840
B29: user_usernames
B30: username [16 bytes] | C30: key | D30: 16
B31: DBID@GUID (8+1+16 = 25) | C31: user_id | D31: 40
B32: =PRODUCT(H3,COUNT(29)) -> 15 | C32: 40 | D32: =SUM(D30:D31) -> 56 | E32: =SUM(C32:D32) -> 96 | F32: =SUM(B32:D32) -> 111
B33: user_user_group
B34: DBID@GUID(User) | C34: key | D34: 25
B35: DBID@GUID(UserGroup) | C35: group_id | D35: 25
B36: =PRODUCT(H3,COUNT(D35)) -> 15 | C36: 40 | D36: =SUM(D34:D35) -> 50 | E36: =SUM(C36:D36) -> 90 | F36: =SUM(B36:D36) -> 105
B37: user_device
B38: DBID@GUID(user) | C38: key | D38: 25
B39: DN@SwitchName(8+1+16) | C39: device_id | D39: 25
B40: =PRODUCT(H3,COUNT(D38)) -> 15 | C40: 40 | D40: =SUM(D38:D39) -> 50 | E40: =SUM(C40:D40) -> 90 | F40: =SUM(B40:D40) -> 105
B41: user_index
C42: key | D42: 1
B43: username/firstname/lastname:u/l/f:userID | C43: user_id*3 | D43: 120
B44: =PRODUCT(H3,COUNT(D43)) -> 15 | C44: 125 | D44: =SUM(D42:D43) -> 121 | E44: =SUM(C44:D44) -> 246 | F44: =SUM(B44:D44) -> 261
A47: User Group
...

Sheet Cassandra data sizing
A1: Voicemail
A2: Required Estimates [Standalone] | C2: Description
A3: # of DN | B3: 100 | D3: =PRODUCT(B3, SUM(Data!E115, Data!E110, Data!E120,Data!E88)) -> 99900
A4: # of Agent Logins | B4: 100 | D4: =PRODUCT(B4, SUM(Data!E72,Data!E82)) -> 40000
A5: # of Persons | B5: 100 | D5: =PRODUCT(B5,SUM(Data!E7,Data!E28,Data!E32,Data!E40,Data!E44)) -> 118100
A6: # of Agent Groups | B6: 2 | C6: # of agent groups defined in the system | D6: =PRODUCT(B6,SUM(Data!E51,Data!E58,Data!E62,Data!E66)) -> 1042
A7: # of Mailboxes | B7: 100 | C7: # of mbx in the system on Agent Lgoin/User/Groups/DNs | D7: =PRODUCT(B7, SUM(Data!E139,Data!E144,Data!E163,Data!E191)) -> 38100
A8: # of Agent Group associated with user | B8: 2 | C8: # of agent groups a user is associated with | D8: =PRODUCT(B8, Data!E36) -> 180
A9: Average # messages per mailbox | B9: 10 | C9: Messages per mailbox, default max is 10 | D9: =PRODUCT(B7, B9,SUM(Data!E184,Data!E189,Data!E194)) -> 234000
A10: Average duration of Voicemail messages | B10: 30 | C10: in seconds | D10: =PRODUCT(B7,B9, B10,Data!E195) -> 240000000
A11: # of Devices | B11: 1000 | C11: # of devices that need to be managed by system
A13: Raw data size in Cassandra 'data' folder (MB) Standalone | B13: =SUM(D3:D10)/(1024*1024) -> 229.38854
A15: Estimated disk size for Cassandra 'data' folder (MB) Standalone | B15: =PRODUCT(2,B13) -> 458.77709
A22: Monitoring
A24: # SIP Server | B24: 1
A25: # SIP Proxy (Cluster only) | B25: 1
A26: # ICON | B26: 1
A27: # URS | B27: 1
A29: Data Collecting Period (sec) | B29: 10
A32: Raw data size in Cassandra 'data' folder (MB) (Cluster mode) | B32: =Monitoring!F239 -> 175.3765
A33: Raw data size in Cassandra 'data' folder (MB) (Standalone) | B33: =Monitoring!F240 -> 125.53218
A36: Estimated disk size for Cassandra 'data' folder (MB) (Cluster mode) | B36: =B44 -> 4
A37: Estimated disk size for Cassandra 'data' folder (MB) (Standalone mode) | B37: =PRODUCT(2,B33) -> 251.06436
A41: Device Management
A42: Raw data size in Cassandra for Device tables (MB) (Standalone) | B42: =B11 * 2/1000 -> 2
A44: Estimated data size in Cassandra for Device tables (MB) (Standalone) | B44: =PRODUCT(2,B42) -> 4
A46: Total
A49: Total estimated size for 'data' folder (MB) (Cluster mode) | B49: =SUM(B15,B36) -> 462.77709
A50: Total estimated size for 'data' folder (MB) (Standalone mode) | B50: =SUM(B15,B37,B42) -> 711.84145
A57: Cassandra Commitlog
A58: Cassandra.yaml settings:
A59: commitlog_segment_size_in_mb: | B59: 32
A60: commitlog_total_space_in_mb: | B60: 1024
A62: Size of 'commitlog' folder (MB) | B62: =B60 -> 1024

Sheet Monitoring
A1: SIP
B3: name | C3: cpu_usage | D3: CPU Usage
B4: name | C4: smemory_usage | D4: Memory Usage
B5: name | C5: sips_CORE_THREADS_COUNT | D5: Core threads count
B6: name | C6: sips_SYSMON_CPU_USAGE | D6: System monitoring CPU usage
B8: name +:sipTSCP | C8: sips_ISCC_ACTIVE_NODE_SERVERS | D8: ISCC active node servers
B9: name +:sipTSCP | C9: sips_ISCC_ACTIVE_PROXY_SERVERS | D9: ISCC active proxy servers
B10: name +:sipTSCP | C10: sips_ISCC_ACTIVE_ORIG_TRANSACTIONS | D10: ISCC active orig transactions
B11: name +:sipTSCP | C11: sip_ISCC_ACTIVE_DEST_TRANSACTIONS | D11: ISCC active dest transactions
B12: name +:sipTSCP | C12: sips_ISCC_SUCCEEDED_ORIG_TRANSACTIONS | D12: ISCC succeeded orig transactions
B13: name +:sipTSCP | C13: sips_ISCC_ISCC_SUCCEEDED_DEST_TRANSACTIONS | D13: ISCC succeeded dest transactions
B14: name +:sipTSCP | C14: sips_ISCC_FAILED_ORIG_TRANSACTIONS | D14: ISCC failed orig transactions
B15: name +:sipTSCP | C15: sips_ISCC_FAILED_DEST_TRANSACTIONS | D15: ISCC failed dest transactions
... B87: name + :sipStack | C87: RESPONSE_TIME_MORE10SEC | D87: Response Times more then 10 sec
A88: =COUNTA(C3:C87) -> 80 | B88: {=SUM(LEN(B3:B87))} -> 1558 | C88: {=SUM(LEN(C3:C87))} -> 1593 | D88: {=SUM(LEN(D3:D87))} -> 1848
A90: Cluster
B91: name +:T_Controller | C91: cpu_usage | D91: CPU Usage
B92: name+:T_Controller | C92: tlib_clients | D92: Number of TLib Clients
B93: name+:T_Controller | C93: logged_agents | D93: Number of logged on agent
B94: name +:T_Controller | C94: TC_NDNS_CONTROLLED | D94: Number of DNs controlled
B95: name+:T_Controller | C95: TC_NCALLS_IN_PROGRESS | D95: Number of calls in progress
B96: name+:T_Controller | C96: TC_NPARTIES_IN_PROGRESS | D96: Number of parties in progress
B97: name +:T_Controller | C97: TC_NRUNNING_NODES | D97: Number of running nodes
B98: name +:T_Controller | C98: TC_NACTIVE_NODES | D98: Number or active nodes
B99: name +:T_Controller | C99: TC_NDATA_CENTERS | D99: Number or data centers
B101: name+:sipIsccProxy | C101: ISCCP_NPROCESSED_ISCC_TRANSACTIONS | D101: Number of processed ISCC transactions
B102: name+:sipIsccProxy | C102: ISCCP_NUNSUCCESSFUL_ISCC_TRANSACTIONS | D102: Number of unsuccessful ISCC transactions
B103: name+:sipIsccProxy | C103: ISCCP_NACTIVE_ISCC_TRANSACTIONS | D103: Current number of active ISCC transactions
... B120: name+:sipServiceChecker | C120: SRVC_NOOS_DEVICES | D120: Number Out Of Service devices
A121: =COUNTA(C91:C120) -> 25 | B121: {=SUM(LEN(B91:B120))} -> 524 | C121: {=SUM(LEN(C91:C120))} -> 575 | D121: {=SUM(LEN(D91:D120))} -> 692
A123: SIP Proxy (Cluster)
B125: name | C125: SIPP_EVENT_BAD_EXTENSION | D125: Requests with invalid Proxy-Require header
B126: name | C126: SIPP_EVENT_TARGET_DN_NOT_FOUND | D126: Number of target DNs | F126: which were not found
B127: name | C127: SIPP_EVENT_TARGET_SIPS_NOT_FOUND | D127: Number of target SIP Servers | F127: which were not found
B128: name | C128: SIPP_ACTIVE_DIALOGS | D128: Number of active dialogs
B129: name | C129: SIPP_DN_REGISTERED | D129: Number of registered DNs
B130: name | C130: SIPP_OOS_PRIMARY_IN_SERVICE | D130: Primary SIP Servers back-in-service events
B131: name | C131: SIPP_OOS_PRIMARY_OUT_OF_SERVICE | D131: Primary SIP Servers out-of-service events
B132: name | C132: SIPP_OOS_HA_PAIR_UNAVAILABLE | D132: SIP Server node out-of-server events
B133: name | C133: SIPP_INVITE_SENT | D133: INVITE sent
...

Sheet Network Hard Disk sizing
A1: Device Management
A3: Required Estimates [Standalone] | C3: Description
A4: # of vendors | B4: 2 | C4: # of phone vendors used in the deployment
A5: # of Devices | B5: 7000 | C5: # of devices that need to be managed by system
A7: Estimated data size for firmware (MB) | B7: =B4 * 5 *225 -> 2250
A8: Estimated data size for storing device logging (MB) | B8: =B5 * 2 -> 14000
A9: Estimated data size for storing device logging backup (MB) | B9: =B5 * 2 -> 14000
A12: Total Network Hard disk size (MB) | B12: =SUM(B7,B8,B9) -> 30250
