Workbook

Sheet Data
C1: Column name | D1: Column value size
C2: [SUM UP only column name lengths] | D2: [SUM UP Key + Column value sizes]
A3: Person | G3: ColumnOverhead | H3: 15
B4: confPerson | G4: Row Overhead | H4: 23
B5: DBID@GUID (8+1+16 = 25) | C5: key | D5: 25
C6: Data | D6: 150
B7: =PRODUCT(H3,COUNT(D6)) -> 15 | C7: 4 | D7: =SUM(D5:D6) -> 175 | E7: =SUM(C7:D7) -> 179 | F7: =SUM(B7:D7) -> 194
B8: user
B9: DBID@GUID (8+1+16 = 25) | C9: key | D9: 25
C10: DB_VERSION | D10: 2
C11: DND_STATE | D11: 5
C12: EMPLOYEE_ID | D12: 20
C13: ENTITY_STATE | D13: 7
C14: NO_ANSWER_TIMEOUT | D14: 3
C15: REJECT_CALL_IN_CALL | D15: 5
C16: REJECT_CALL_NOT_READY | D16: 5
C17: ROLES | D17: 20
C18: TIMEZONE | D18: 30
C19: mailbox_id | D19: 8
C20: CALLING_PROFILE | D20: 40
C21: FORWARD_ON_BUSY | D21: 40
... C27: USER_NAME | D27: 20
B28: =PRODUCT(H3,COUNT(D10:D27)) -> 270 | C28: {=SUM(LEN(C9:C27))} -> 235 | D28: =SUM(D9:D27) -> 335 | E28: =SUM(C28:D28) -> 570 | F28: =SUM(B28:D28) -> 840
B29: user_usernames
B30: username [16 bytes] | C30: key | D30: 16
B31: DBID@GUID (8+1+16 = 25) | C31: user_id | D31: 40
B32: =PRODUCT(H3,COUNT(29)) -> 15 | C32: 40 | D32: =SUM(D30:D31) -> 56 | E32: =SUM(C32:D32) -> 96 | F32: =SUM(B32:D32) -> 111
B33: user_user_group
B34: DBID@GUID(User) | C34: key | D34: 25
B35: DBID@GUID(UserGroup) | C35: group_id | D35: 25
B36: =PRODUCT(H3,COUNT(D35)) -> 15 | C36: 40 | D36: =SUM(D34:D35) -> 50 | E36: =SUM(C36:D36) -> 90 | F36: =SUM(B36:D36) -> 105
B37: user_device
B38: DBID@GUID(user) | C38: key | D38: 25
B39: DN@SwitchName(8+1+16) | C39: device_id | D39: 25
B40: =PRODUCT(H3,COUNT(D38)) -> 15 | C40: 40 | D40: =SUM(D38:D39) -> 50 | E40: =SUM(C40:D40) -> 90 | F40: =SUM(B40:D40) -> 105
B41: user_index
C42: key | D42: 1
B43: username/firstname/lastname:u/l/f:userID | C43: user_id*3 | D43: 120
B44: =PRODUCT(H3,COUNT(D43)) -> 15 | C44: 125 | D44: =SUM(D42:D43) -> 121 | E44: =SUM(C44:D44) -> 246 | F44: =SUM(B44:D44) -> 261
A47: User Group
B48: confAgentGroup
B49: DBID@GUID | C49: key | D49: 40
C50: Data | D50: 150
B51: =PRODUCT(H3,COUNT(D50)) -> 15 | C51: {=SUM(LEN(C49:C50))} -> 7 | D51: =SUM(D49:D50) -> 190 | E51: =SUM(C51:D51) -> 197 | F51: =SUM(B51:D51) -> 212
B52: user_group
B53: DBID@GUID | C53: key | D53: 40
C54: GROUP_NAME | D54: 20
C55: MAILBOX_ID | D55: 8
C56: DB_VERSION | D56: 2
C57: ENTITY_STATE | D57: 7
B58: =PRODUCT(H3,COUNT(D54:D57)) -> 60 | C58: {=SUM(LEN(C53:C57))} -> 45 | D58: =SUM(D53:D57) -> 77 | E58: =SUM(C58:D58) -> 122 | F58: =SUM(B58:D58) -> 182
B59: user_group_index
C60: key | D60: 1
B61: AgentGroupName:n:DBID@GUID | C61: user_group_id | D61: 40
B62: =PRODUCT(H3,COUNT(D61)) -> 15 | C62: 41 | D62: =SUM(D60:D61) -> 41 | E62: =SUM(C62:D62) -> 82 | F62: =SUM(B62:D62) -> 97
B63: user_group_users
C64: key | D64: 40
C65: user_id | D65: 40
B66: =PRODUCT(H3,COUNT(D65)) -> 15 | C66: 40 | D66: =SUM(D64:D65) -> 80 | E66: =SUM(C66:D66) -> 120 | F66: =SUM(B66:D66) -> 135
A68: Agent Login
B69: confAgentLogin
C70: key | D70: 40
C71: Data | D71: 150
B72: =PRODUCT(H3,COUNT(D71)) -> 15 | C72: {=SUM(LEN(C70:C71))} -> 7 | D72: =SUM(D70:D71) -> 190 | E72: =SUM(C72:D72) -> 197 | F72: =SUM(B72:D72) -> 212
B74: agent_login
C75: key | D75: 40
C76: DB_VERSION | D76: 20
C77: ENTITY_STATE | D77: 20
C78: LOGIN_CODE | D78: 10
C79: MAILBOX_ID | D79: 8
C80: USER_NAME | D80: 20
C81: SWITCH_NAME | D81: 20
B82: =PRODUCT(H3,COUNT(D76:D81)) -> 90 | C82: {=SUM(LEN(C75:C81))} -> 65 | D82: =SUM(D75:D81) -> 138 | E82: =SUM(C82:D82) -> 203 | F82: =SUM(B82:D82) -> 293
A84: Device
B85: confDN
C86: key | D86: 40
C87: Data | D87: 150
B88: =PRODUCT(H3,COUNT(D87)) -> 15 | C88: {=SUM(LEN(C86:C87))} -> 7 | D88: =SUM(D86:D87) -> 190 | E88: =SUM(C88:D88) -> 197 | F88: =SUM(B88:D88) -> 212
B90: device
C91: key | D91: 40
C92: DB_VERSION | D92: 20
C93: ENTITY_STATE | D93: 20
C94: CFG_TYPE | D94: 2
C95: DEVICE_TYPE | D95: 8
C96: GEO_LOCATION | D96: 10
C97: NUMBER | D97: 10
C98: SERVICE_STATE | D98: 3
C99: SWITCH_NAME | D99: 20
C100: DEVICE_PASSWORD | D100: 10
C101: USER | D101: 40
C102: LOGIN | D102: 10
... C109: SERVICE_DATA | D109: 10
B110: =PRODUCT(H3,COUNT(D92:D109)) -> 270 | C110: {=SUM(LEN(C92:C109))} -> 206 | D110: =SUM(D91:D109) -> 381 | E110: =SUM(C110:D110) -> 587 | F110: =SUM(B110:D110) -> 857
B112: device_users
C113: key | D113: 40
C114: user_id | D114: 50
B115: =PRODUCT(H3,COUNT(D114)) -> 15 | C115: 40 | D115: =SUM(D113:D114) -> 90 | E115: =SUM(C115:D115) -> 130 | F115: =SUM(B115:D115) -> 145
B117: device_index
C118: key | D118: 1
B119: deviceid (device_id:n:device_id@switch) 8+3+8+25 = 44 | C119: device_id | D119: 40
...

Sheet Cassandra data sizing
A1: Voicemail
A2: Required Estimates [Standalone] | C2: Description
A3: # of DN | B3: 100 | D3: =PRODUCT(B3, SUM(Data!E115, Data!E110, Data!E120,Data!E88)) -> 99900
A4: # of Agent Logins | B4: 100 | D4: =PRODUCT(B4, SUM(Data!E72,Data!E82)) -> 40000
A5: # of Persons | B5: 100 | D5: =PRODUCT(B5,SUM(Data!E7,Data!E28,Data!E32,Data!E40,Data!E44)) -> 118100
A6: # of Agent Groups | B6: 2 | C6: # of agent groups defined in the system | D6: =PRODUCT(B6,SUM(Data!E51,Data!E58,Data!E62,Data!E66)) -> 1042
A7: # of Mailboxes | B7: 100 | C7: # of mbx in the system on Agent Lgoin/User/Groups/DNs | D7: =PRODUCT(B7, SUM(Data!E139,Data!E144,Data!E163,Data!E191)) -> 38100
A8: # of Agent Group associated with user | B8: 2 | C8: # of agent groups a user is associated with | D8: =PRODUCT(B8, Data!E36) -> 180
A9: Average # messages per mailbox | B9: 10 | C9: Messages per mailbox, default max is 10 | D9: =PRODUCT(B7, B9,SUM(Data!E184,Data!E189,Data!E194)) -> 234000
A10: Average duration of Voicemail messages | B10: 30 | C10: in seconds | D10: =PRODUCT(B7,B9, B10,Data!E195) -> 240000000
A11: # of Devices | B11: 1000 | C11: # of devices that need to be managed by system
A13: Raw data size in Cassandra 'data' folder (MB) Standalone | B13: =SUM(D3:D10)/(1024*1024) -> 229.38854
A15: Estimated disk size for Cassandra 'data' folder (MB) Standalone | B15: =PRODUCT(2,B13) -> 458.77709
A22: Monitoring
A24: # SIP Server | B24: 1
A25: # SIP Proxy (Cluster only) | B25: 1
A26: # ICON | B26: 1
A27: # URS | B27: 1
A29: Data Collecting Period (sec) | B29: 10
A32: Raw data size in Cassandra 'data' folder (MB) (Cluster mode) | B32: =Monitoring!F239 -> 175.3765
A33: Raw data size in Cassandra 'data' folder (MB) (Standalone) | B33: =Monitoring!F240 -> 125.53218
A36: Estimated disk size for Cassandra 'data' folder (MB) (Cluster mode) | B36: =B44 -> 4
A37: Estimated disk size for Cassandra 'data' folder (MB) (Standalone mode) | B37: =PRODUCT(2,B33) -> 251.06436
A41: Device Management
A42: Raw data size in Cassandra for Device tables (MB) (Standalone) | B42: =B11 * 2/1000 -> 2
A44: Estimated data size in Cassandra for Device tables (MB) (Standalone) | B44: =PRODUCT(2,B42) -> 4
A46: Total
A49: Total estimated size for 'data' folder (MB) (Cluster mode) | B49: =SUM(B15,B36) -> 462.77709
A50: Total estimated size for 'data' folder (MB) (Standalone mode) | B50: =SUM(B15,B37,B42) -> 711.84145
A57: Cassandra Commitlog
A58: Cassandra.yaml settings:
A59: commitlog_segment_size_in_mb: | B59: 32
A60: commitlog_total_space_in_mb: | B60: 1024
A62: Size of 'commitlog' folder (MB) | B62: =B60 -> 1024

Sheet Monitoring
A1: SIP
B3: name | C3: cpu_usage | D3: CPU Usage
B4: name | C4: smemory_usage | D4: Memory Usage
B5: name | C5: sips_CORE_THREADS_COUNT | D5: Core threads count
B6: name | C6: sips_SYSMON_CPU_USAGE | D6: System monitoring CPU usage
B8: name +:sipTSCP | C8: sips_ISCC_ACTIVE_NODE_SERVERS | D8: ISCC active node servers
B9: name +:sipTSCP | C9: sips_ISCC_ACTIVE_PROXY_SERVERS | D9: ISCC active proxy servers
B10: name +:sipTSCP | C10: sips_ISCC_ACTIVE_ORIG_TRANSACTIONS | D10: ISCC active orig transactions
B11: name +:sipTSCP | C11: sip_ISCC_ACTIVE_DEST_TRANSACTIONS | D11: ISCC active dest transactions
B12: name +:sipTSCP | C12: sips_ISCC_SUCCEEDED_ORIG_TRANSACTIONS | D12: ISCC succeeded orig transactions
B13: name +:sipTSCP | C13: sips_ISCC_ISCC_SUCCEEDED_DEST_TRANSACTIONS | D13: ISCC succeeded dest transactions
B14: name +:sipTSCP | C14: sips_ISCC_FAILED_ORIG_TRANSACTIONS | D14: ISCC failed orig transactions
B15: name +:sipTSCP | C15: sips_ISCC_FAILED_DEST_TRANSACTIONS | D15: ISCC failed dest transactions
... B87: name + :sipStack | C87: RESPONSE_TIME_MORE10SEC | D87: Response Times more then 10 sec
A88: =COUNTA(C3:C87) -> 80 | B88: {=SUM(LEN(B3:B87))} -> 1558 | C88: {=SUM(LEN(C3:C87))} -> 1593 | D88: {=SUM(LEN(D3:D87))} -> 1848
A90: Cluster
B91: name +:T_Controller | C91: cpu_usage | D91: CPU Usage
B92: name+:T_Controller | C92: tlib_clients | D92: Number of TLib Clients
B93: name+:T_Controller | C93: logged_agents | D93: Number of logged on agent
B94: name +:T_Controller | C94: TC_NDNS_CONTROLLED | D94: Number of DNs controlled
B95: name+:T_Controller | C95: TC_NCALLS_IN_PROGRESS | D95: Number of calls in progress
B96: name+:T_Controller | C96: TC_NPARTIES_IN_PROGRESS | D96: Number of parties in progress
B97: name +:T_Controller | C97: TC_NRUNNING_NODES | D97: Number of running nodes
B98: name +:T_Controller | C98: TC_NACTIVE_NODES | D98: Number or active nodes
B99: name +:T_Controller | C99: TC_NDATA_CENTERS | D99: Number or data centers
B101: name+:sipIsccProxy | C101: ISCCP_NPROCESSED_ISCC_TRANSACTIONS | D101: Number of processed ISCC transactions
B102: name+:sipIsccProxy | C102: ISCCP_NUNSUCCESSFUL_ISCC_TRANSACTIONS | D102: Number of unsuccessful ISCC transactions
B103: name+:sipIsccProxy | C103: ISCCP_NACTIVE_ISCC_TRANSACTIONS | D103: Current number of active ISCC transactions
... B120: name+:sipServiceChecker | C120: SRVC_NOOS_DEVICES | D120: Number Out Of Service devices
A121: =COUNTA(C91:C120) -> 25 | B121: {=SUM(LEN(B91:B120))} -> 524 | C121: {=SUM(LEN(C91:C120))} -> 575 | D121: {=SUM(LEN(D91:D120))} -> 692
A123: SIP Proxy (Cluster)
B125: name | C125: SIPP_EVENT_BAD_EXTENSION | D125: Requests with invalid Proxy-Require header
B126: name | C126: SIPP_EVENT_TARGET_DN_NOT_FOUND | D126: Number of target DNs | F126: which were not found
B127: name | C127: SIPP_EVENT_TARGET_SIPS_NOT_FOUND | D127: Number of target SIP Servers | F127: which were not found
B128: name | C128: SIPP_ACTIVE_DIALOGS | D128: Number of active dialogs
B129: name | C129: SIPP_DN_REGISTERED | D129: Number of registered DNs
B130: name | C130: SIPP_OOS_PRIMARY_IN_SERVICE | D130: Primary SIP Servers back-in-service events
B131: name | C131: SIPP_OOS_PRIMARY_OUT_OF_SERVICE | D131: Primary SIP Servers out-of-service events
B132: name | C132: SIPP_OOS_HA_PAIR_UNAVAILABLE | D132: SIP Server node out-of-server events
B133: name | C133: SIPP_INVITE_SENT | D133: INVITE sent
B134: name | C134: SIPP_INVITE_200OK_RESP_RECEIVED | D134: 200OK | F134: received on INVITE
B135: name | C135: SIPP_INVITE_ERROR_RESP_RECEIVED | D135: Error responses | F135: received on INVITE
B136: name | C136: SIPP_REGISTER_200OK_RESP_RECEIVED | D136: 200OK | F136: received on REGISTER
B137: name | C137: SIPP_REGISTER_ERROR_RESP_RECEIVED | D137: Error responses | F137: received on REGISTER
B138: name | C138: SIPP_SWITCHOVER_DETECTED | D138: SIP Server node switchowers
B139: name | C139: SIPP_EXTERNAL_DESTINATIONS | D139: Requests to external destination
B140: name | C140: SIPP_PROXIES_DISCONNECTED | D140: SIP Proxy disconnect events
B141: name | C141: SIPP_INVITE_TIMEOUT | D141: INVITE transaction timeouts
B142: name | C142: SIPP_REGISTER_TERMINATED | D142: Terminated registrations
B143: name | C143: SIPP_REGISTER_EXPIRED | D143: Expired registrations
B144: name | C144: SIPP_CALL_STORAGE_SIZE | D144: Records in Call-Storage
B145: name | C145: SIPP_BYE_SENT | D145: BYE sent
B146: name | C146: SIPP_INVITE_PROV_RESP_RECEIVED | D146: Received provisional responses on INVITE
B147: name | C147: SIPP_REQUEST_RECEIVED_RATE | D147: Number of requests received per sec.
B148: name | C148: SIPP_INVITE_RECEIVED_RATE | D148: Number of INVITE received per sec.
B149: name | C149: SIPP_INVITE_RECEIVED_RATE_AVERAGE | D149: Average value of INVITE received per sec.
... B153: name | C153: SIPP_REQUESTS_REJECTED | D153: Number of rejected INVITE requests
A154: =COUNTA(C125:C153) -> 29 | B154: {=SUM(LEN(B124:B153))} -> 138 | C154: {=SUM(LEN(C124:C153))} -> 765 | D154: {=SUM(LEN(D124:D153))} -> 816
A156: ICON
B157: name +:GCTIStatistics | C157: icon_fsmErrors | D157: Call FSM1 errors
B158: name +:GCTIStatistics | C158: icon_lastFSMError | D158: Last FSM1 error
B159: name +:GCTIStatistics | C159: icon_cstaFSMErrors | D159: Call FSM2 errors
B160: name +:GCTIStatistics | C160: icon_lastCSTAFSMError | D160: Last FSM2 error
B161: name +:GCTIStatistics | C161: icon_internalErrors | D161: Call processor errors
B162: name +:GCTIStatistics | C162: icon_lastInternalError | D162: Last call processor error
B163: name +:GCTIStatistics | C163: icon_failedConferenceTransactions | D163: Failed conference transactions
B164: name +:GCTIStatistics | C164: icon_failedTransferTransactions | D164: Failed Transfer transactions
B165: name +:GCTIStatistics | C165: icon_failedRedirectTransactions | D165: Failed redirect transactions
B166: name +:GCTIStatistics | C166: icon_failedSSTTransactions | D166: Failed SST transactions
B167: name +:GCTIStatistics | C167: icon_teventsPerSecond | D167: Number of t-events per second
B168: name +:GCTIStatistics | C168: icon_failedCallMatchTransactions | D168: Failed call match transactions
... B208: name +:DBWriter | C208: icon_alarmsCleared | D208: Alarms cleared
A209: =COUNTA(C157:C208) -> 45 | B209: {=SUM(LEN(B157:B208))} -> 774 | C209: {=SUM(LEN(C157:C208))} -> 957 | D209: {=SUM(LEN(D157:D208))} -> 1106
A211: URS
B212: name | C212: urs_call_now | D212: URS Calls Now
B213: name | C213: urs_call_handled | D213: URS Calls Completed
B214: name | C214: urs_call_routed | D214: URS Calls Routed
B215: name | C215: urs_call_confirmed | D215: URS Calls with EventRouteUseds
B216: name | C216: urs_call_abandoned | D216: URS Calls Abandoned
B217: name | C217: urs_call_error | D217: URS Call Errors
B218: name | C218: urs_call_default | D218: URS Default Calls
B219: name | C219: urs_call_dropped | D219: URS Calls Dropped
B221: name | C221: urs_exp_reqs | D221: Explicit reserving requests
B222: name | C222: urs_imp_reqs | D222: Implicit reserving requests
B223: name | C223: urs_pos | D223: Accepted agent reservations
A224: =COUNTA(C212:C223) -> 11 | B224: {=SUM(LEN(B212:B223))} -> 55 | C224: {=SUM(LEN(C212:C223))} -> 167 | D224: {=SUM(LEN(D212:D223))} -> 238
A227: Standalone
A228: =SUM(A209,A224,A88) -> 136 | B228: =SUM(B209,B224,B88) -> 2387 | C228: =SUM(C209,C224,C88) -> 2717 | D228: =SUM(D209,D224,D88) -> 3192
A229: Cluster
A230: =SUM(A209,A224,A88,A154,A121) -> 190 | B230: =SUM(B209,B224,B88,B154,B121) -> 3049 | C230: =SUM(C209,C224,C88,C154,C121) -> 4057 | D230: =SUM(D209,D224,D88,D154,D121) -> 4700
A232: Perriod(sec) | B232: ='Cassandra data sizing'!B29 -> 10 | C232: mon_metric | D232: mon_component_metric | E232: mon_metric_data
A233: SIP Server | B233: ='Cassandra data sizing'!B24 -> 1 | C233: =SUM(C88:D88)+A88*27 -> 5601 | D233: =(C88 + 3*A88 + 36*A88+B88+10*A88)*B233 -> 7071 | E233: =(A88*B233)*(36 + 16*(604800/B232)) -> 77417280
A234: SIP Server (Cluster) | B234: ='Cassandra data sizing'!B24 -> 1 | C234: =SUM(C121:D121)+A121*27+C233 -> 7543 | D234: =(C121 + 3*A121 + 36*A121+B121+10*A121+(C88 + 3*A88 + 36*A88+B88+10*A88))*B234 -> 9395 | E234: =(A121*B234)*(36 + 16*(604800/B232)) + (A88*B233)*(36 + 16*(604800/B232)) -> 101610180
A235: SIP Proxy (Cluster) | B235: ='Cassandra data sizing'!B25 -> 1 | C235: =SUM(C154:D154)+A154*25 -> 2306 | D235: =(C154 + 3*A154 + 36*A154+B154+10*A154)*B235 -> 2324 | E235: =(A154*B235)*(36 + 16*(604800/B232)) -> 28063764
A236: ICON | B236: ='Cassandra data sizing'!B26 -> 1 | C236: =SUM(C209:D209)+A209*15 -> 2738 | D236: =(C209 + 3*A209 + 36*A209+B209+10*A209)*B236 -> 3936 | E236: =(A209*B236)*(36 + 16*(604800/B232)) -> 43547220
A237: URS | B237: ='Cassandra data sizing'!B27 -> 1 | C237: =SUM(C224:D224)+A224*13 -> 548 | D237: =(C224 + 3*A224 + 36*A224+B224+10*A224)*B237 -> 761 | E237: =(A224*B237)*(36 + 16*(604800/B232)) -> 10644876
A239: Cluster | C239: =SUM(C234,C235,C236,C237)/1024 -> 12.827148 | D239: =SUM(D234,D235,D236,D237)/1024 -> 16.03125 | E239: =SUM(E234,E235,E236,E237)/1024 -> 179556.68 | F239: =SUM(C239:E239)/1024 -> 175.3765 | G239: GB
A240: Standalone | C240: =SUM(C233,C236,C237)/1024 -> 8.6787109 | D240: =SUM(D233,D236,D237)/1024 -> 11.492188 | E240: =SUM(E233,E236,E237)/1024 -> 128524.78 | F240: =SUM(C240:E240)/1024 -> 125.53218 | G240: GB

Sheet Network Hard Disk sizing
A1: Device Management
A3: Required Estimates [Standalone] | C3: Description
A4: # of vendors | B4: 2 | C4: # of phone vendors used in the deployment
A5: # of Devices | B5: 7000 | C5: # of devices that need to be managed by system
A7: Estimated data size for firmware (MB) | B7: =B4 * 5 *225 -> 2250
A8: Estimated data size for storing device logging (MB) | B8: =B5 * 2 -> 14000
A9: Estimated data size for storing device logging backup (MB) | B9: =B5 * 2 -> 14000
A12: Total Network Hard disk size (MB) | B12: =SUM(B7,B8,B9) -> 30250
